Package: KCsmart Version: 2.64.0 Command: /Library/Frameworks/R.framework/Resources/bin/R CMD build --keep-empty-dirs --no-resave-data KCsmart StartedAt: 2025-02-04 02:10:52 -0500 (Tue, 04 Feb 2025) EndedAt: 2025-02-04 02:11:27 -0500 (Tue, 04 Feb 2025) EllapsedTime: 35.0 seconds RetCode: 0 Status: OK PackageFile: KCsmart_2.64.0.tar.gz PackageFileSize: 1.805 MiB