Package: KCsmart Version: 2.64.0 Command: /Library/Frameworks/R.framework/Resources/bin/R CMD INSTALL KCsmart StartedAt: 2025-02-03 17:24:35 -0500 (Mon, 03 Feb 2025) EndedAt: 2025-02-03 17:24:46 -0500 (Mon, 03 Feb 2025) EllapsedTime: 10.7 seconds RetCode: 0 Status: OK