Package: KCsmart Version: 2.64.0 Command: rm -rf KCsmart.buildbin-libdir && mkdir KCsmart.buildbin-libdir && /Users/biocbuild/BBS/utils/build-universal.sh KCsmart_2.64.0.tar.gz /Library/Frameworks/R.framework/Resources/bin/R KCsmart.buildbin-libdir StartedAt: 2025-02-11 13:35:51 -0500 (Tue, 11 Feb 2025) EndedAt: 2025-02-11 13:36:25 -0500 (Tue, 11 Feb 2025) EllapsedTime: 34.2 seconds RetCode: 0 Status: OK PackageFile: KCsmart_2.64.0.tgz PackageFileSize: 2.194 MiB