Package: KCsmart Version: 2.64.0 Command: /Library/Frameworks/R.framework/Resources/bin/R CMD build --keep-empty-dirs --no-resave-data KCsmart StartedAt: 2025-02-03 19:53:09 -0500 (Mon, 03 Feb 2025) EndedAt: 2025-02-03 19:54:07 -0500 (Mon, 03 Feb 2025) EllapsedTime: 58.8 seconds RetCode: 0 Status: OK PackageFile: KCsmart_2.64.0.tar.gz PackageFileSize: 1.811 MiB