Package: KCsmart Version: 2.64.0 Command: /Library/Frameworks/R.framework/Resources/bin/R CMD check --install=check:KCsmart.install-out.txt --library=/Library/Frameworks/R.framework/Resources/library --no-vignettes --timings KCsmart_2.64.0.tar.gz StartedAt: 2025-02-04 05:29:22 -0500 (Tue, 04 Feb 2025) EndedAt: 2025-02-04 05:32:25 -0500 (Tue, 04 Feb 2025) EllapsedTime: 182.8 seconds RetCode: 0 Status: WARNINGS CheckDir: KCsmart.Rcheck Warnings: 1