Package: KCsmart Version: 2.64.0 Command: /Library/Frameworks/R.framework/Resources/bin/R CMD INSTALL KCsmart StartedAt: 2025-02-03 16:26:48 -0500 (Mon, 03 Feb 2025) EndedAt: 2025-02-03 16:27:11 -0500 (Mon, 03 Feb 2025) EllapsedTime: 22.9 seconds RetCode: 0 Status: OK