Package: KCsmart Version: 2.64.0 Command: chmod a+r KCsmart -R && F:\biocbuild\bbs-3.20-bioc\R\bin\R.exe CMD build --keep-empty-dirs --no-resave-data KCsmart StartedAt: 2025-02-03 19:59:49 -0500 (Mon, 03 Feb 2025) EndedAt: 2025-02-03 20:00:29 -0500 (Mon, 03 Feb 2025) EllapsedTime: 40.1 seconds RetCode: 0 Status: OK PackageFile: KCsmart_2.64.0.tar.gz PackageFileSize: 1.716 MiB