Package: KCsmart Version: 2.64.0 Command: /home/biocbuild/R/R/bin/R CMD INSTALL KCsmart StartedAt: 2025-02-03 21:10:07 -0000 (Mon, 03 Feb 2025) EndedAt: 2025-02-03 21:10:19 -0000 (Mon, 03 Feb 2025) EllapsedTime: 12.0 seconds RetCode: 0 Status: OK