Package: KEGGREST Version: 1.46.0 Command: /Library/Frameworks/R.framework/Resources/bin/R CMD INSTALL KEGGREST StartedAt: 2025-02-03 15:22:36 -0500 (Mon, 03 Feb 2025) EndedAt: 2025-02-03 15:23:02 -0500 (Mon, 03 Feb 2025) EllapsedTime: 26.2 seconds RetCode: 0 Status: OK