Package: KEGGREST Version: 1.46.0 Command: /home/biocbuild/R/R/bin/R CMD build --keep-empty-dirs --no-resave-data KEGGREST StartedAt: 2025-02-11 00:22:14 -0000 (Tue, 11 Feb 2025) EndedAt: 2025-02-11 00:22:42 -0000 (Tue, 11 Feb 2025) EllapsedTime: 28.0 seconds RetCode: 0 Status: OK PackageFile: KEGGREST_1.46.0.tar.gz PackageFileSize: 259.1 KiB