Package: KEGGlincs Version: 1.32.0 Command: rm -rf KEGGlincs.buildbin-libdir && mkdir KEGGlincs.buildbin-libdir && /Users/biocbuild/BBS/utils/build-universal.sh KEGGlincs_1.32.0.tar.gz /Library/Frameworks/R.framework/Resources/bin/R KEGGlincs.buildbin-libdir StartedAt: 2025-02-05 16:23:46 -0500 (Wed, 05 Feb 2025) EndedAt: 2025-02-05 16:24:10 -0500 (Wed, 05 Feb 2025) EllapsedTime: 23.5 seconds RetCode: 0 Status: OK PackageFile: KEGGlincs_1.32.0.tgz PackageFileSize: 2.281 MiB