Package: KEGGlincs Version: 1.32.0 Command: /Library/Frameworks/R.framework/Resources/bin/R CMD build --keep-empty-dirs --no-resave-data KEGGlincs StartedAt: 2025-02-04 02:11:24 -0500 (Tue, 04 Feb 2025) EndedAt: 2025-02-04 02:12:33 -0500 (Tue, 04 Feb 2025) EllapsedTime: 68.9 seconds RetCode: 0 Status: OK PackageFile: KEGGlincs_1.32.0.tar.gz PackageFileSize: 4.215 MiB