Package: KEGGlincs Version: 1.32.0 Command: /Library/Frameworks/R.framework/Resources/bin/R CMD check --install=check:KEGGlincs.install-out.txt --library=/Library/Frameworks/R.framework/Resources/library --no-vignettes --timings KEGGlincs_1.32.0.tar.gz StartedAt: 2025-02-04 23:44:45 -0500 (Tue, 04 Feb 2025) EndedAt: 2025-02-04 23:49:03 -0500 (Tue, 04 Feb 2025) EllapsedTime: 257.8 seconds RetCode: 0 Status: OK CheckDir: KEGGlincs.Rcheck Warnings: 0