Package: KEGGlincs Version: 1.32.0 Command: /Library/Frameworks/R.framework/Resources/bin/R CMD INSTALL KEGGlincs StartedAt: 2025-01-30 15:44:22 -0500 (Thu, 30 Jan 2025) EndedAt: 2025-01-30 15:44:43 -0500 (Thu, 30 Jan 2025) EllapsedTime: 20.8 seconds RetCode: 0 Status: OK