Package: KEGGlincs Version: 1.32.0 Command: /home/biocbuild/bbs-3.20-bioc/R/bin/R CMD build --keep-empty-dirs --no-resave-data --md5 KEGGlincs StartedAt: 2025-02-03 17:58:11 -0500 (Mon, 03 Feb 2025) EndedAt: 2025-02-03 17:59:00 -0500 (Mon, 03 Feb 2025) EllapsedTime: 49.0 seconds RetCode: 0 Status: OK PackageFile: KEGGlincs_1.32.0.tar.gz PackageFileSize: 4.216 MiB