Package: KEGGlincs Version: 1.32.0 Command: /home/biocbuild/bbs-3.20-bioc/R/bin/R CMD INSTALL KEGGlincs StartedAt: 2025-02-03 15:25:58 -0500 (Mon, 03 Feb 2025) EndedAt: 2025-02-03 15:26:15 -0500 (Mon, 03 Feb 2025) EllapsedTime: 16.5 seconds RetCode: 0 Status: OK