Package: KEGGlincs Version: 1.32.0 Command: rm -rf KEGGlincs.buildbin-libdir && mkdir KEGGlincs.buildbin-libdir && F:\biocbuild\bbs-3.20-bioc\R\bin\R.exe CMD INSTALL --build --library=KEGGlincs.buildbin-libdir KEGGlincs_1.32.0.tar.gz StartedAt: 2025-01-31 08:55:09 -0500 (Fri, 31 Jan 2025) EndedAt: 2025-01-31 08:55:41 -0500 (Fri, 31 Jan 2025) EllapsedTime: 32.5 seconds RetCode: 0 Status: OK PackageFile: KEGGlincs_1.32.0.zip PackageFileSize: 2.277 MiB