Package: KinSwingR Version: 1.24.0 Command: rm -rf KinSwingR.buildbin-libdir && mkdir KinSwingR.buildbin-libdir && /Users/biocbuild/BBS/utils/build-universal.sh KinSwingR_1.24.0.tar.gz /Library/Frameworks/R.framework/Resources/bin/R KinSwingR.buildbin-libdir StartedAt: 2025-02-05 16:24:12 -0500 (Wed, 05 Feb 2025) EndedAt: 2025-02-05 16:24:20 -0500 (Wed, 05 Feb 2025) EllapsedTime: 7.6 seconds RetCode: 0 Status: OK PackageFile: KinSwingR_1.24.0.tgz PackageFileSize: 703.7 KiB