Package: KinSwingR Version: 1.24.0 Command: /Library/Frameworks/R.framework/Resources/bin/R CMD build --keep-empty-dirs --no-resave-data KinSwingR StartedAt: 2025-02-04 02:11:57 -0500 (Tue, 04 Feb 2025) EndedAt: 2025-02-04 02:12:37 -0500 (Tue, 04 Feb 2025) EllapsedTime: 39.3 seconds RetCode: 0 Status: OK PackageFile: KinSwingR_1.24.0.tar.gz PackageFileSize: 649.9 KiB