Package: KinSwingR Version: 1.24.0 Command: /Library/Frameworks/R.framework/Resources/bin/R CMD check --install=check:KinSwingR.install-out.txt --library=/Library/Frameworks/R.framework/Resources/library --no-vignettes --timings KinSwingR_1.24.0.tar.gz StartedAt: 2025-02-04 23:46:00 -0500 (Tue, 04 Feb 2025) EndedAt: 2025-02-04 23:46:43 -0500 (Tue, 04 Feb 2025) EllapsedTime: 43.2 seconds RetCode: 0 Status: OK CheckDir: KinSwingR.Rcheck Warnings: 0