Package: KinSwingR Version: 1.24.0 Command: /Library/Frameworks/R.framework/Resources/bin/R CMD INSTALL KinSwingR StartedAt: 2025-02-10 15:25:05 -0500 (Mon, 10 Feb 2025) EndedAt: 2025-02-10 15:25:18 -0500 (Mon, 10 Feb 2025) EllapsedTime: 12.3 seconds RetCode: 0 Status: OK