Package: KinSwingR Version: 1.24.0 Command: /home/biocbuild/bbs-3.20-bioc/R/bin/R CMD build --keep-empty-dirs --no-resave-data --md5 KinSwingR StartedAt: 2025-02-03 17:58:29 -0500 (Mon, 03 Feb 2025) EndedAt: 2025-02-03 17:58:54 -0500 (Mon, 03 Feb 2025) EllapsedTime: 25.0 seconds RetCode: 0 Status: OK PackageFile: KinSwingR_1.24.0.tar.gz PackageFileSize: 579.5 KiB