Package: KinSwingR Version: 1.24.0 Command: /home/biocbuild/bbs-3.20-bioc/R/bin/R CMD INSTALL KinSwingR StartedAt: 2025-02-03 15:27:33 -0500 (Mon, 03 Feb 2025) EndedAt: 2025-02-03 15:27:36 -0500 (Mon, 03 Feb 2025) EllapsedTime: 3.9 seconds RetCode: 0 Status: OK