Package: KinSwingR Version: 1.24.0 Command: chmod a+r KinSwingR -R && F:\biocbuild\bbs-3.20-bioc\R\bin\R.exe CMD build --keep-empty-dirs --no-resave-data KinSwingR StartedAt: 2025-02-03 20:00:39 -0500 (Mon, 03 Feb 2025) EndedAt: 2025-02-03 20:01:19 -0500 (Mon, 03 Feb 2025) EllapsedTime: 39.9 seconds RetCode: 0 Status: OK PackageFile: KinSwingR_1.24.0.tar.gz PackageFileSize: 565.7 KiB