Package: KinSwingR Version: 1.24.0 Command: F:\biocbuild\bbs-3.20-bioc\R\bin\R.exe CMD INSTALL KinSwingR StartedAt: 2025-02-03 15:52:41 -0500 (Mon, 03 Feb 2025) EndedAt: 2025-02-03 15:52:57 -0500 (Mon, 03 Feb 2025) EllapsedTime: 16.0 seconds RetCode: 0 Status: OK