Package: KinSwingR Version: 1.24.0 Command: /home/biocbuild/R/R/bin/R CMD check --install=check:KinSwingR.install-out.txt --library=/home/biocbuild/R/R/site-library --no-vignettes --timings KinSwingR_1.24.0.tar.gz StartedAt: 2025-02-04 08:16:27 -0000 (Tue, 04 Feb 2025) EndedAt: 2025-02-04 08:17:04 -0000 (Tue, 04 Feb 2025) EllapsedTime: 37.0 seconds RetCode: 0 Status: OK CheckDir: KinSwingR.Rcheck Warnings: 0