Package: LBE Version: 1.74.0 Command: /Library/Frameworks/R.framework/Resources/bin/R CMD build --keep-empty-dirs --no-resave-data LBE StartedAt: 2025-02-04 02:14:43 -0500 (Tue, 04 Feb 2025) EndedAt: 2025-02-04 02:14:54 -0500 (Tue, 04 Feb 2025) EllapsedTime: 11.2 seconds RetCode: 0 Status: OK PackageFile: LBE_1.74.0.tar.gz PackageFileSize: 784.1 KiB