Package: LBE Version: 1.74.0 Command: /Library/Frameworks/R.framework/Resources/bin/R CMD check --install=check:LBE.install-out.txt --library=/Library/Frameworks/R.framework/Resources/library --no-vignettes --timings LBE_1.74.0.tar.gz StartedAt: 2025-01-31 23:23:41 -0500 (Fri, 31 Jan 2025) EndedAt: 2025-01-31 23:24:04 -0500 (Fri, 31 Jan 2025) EllapsedTime: 22.8 seconds RetCode: 0 Status: OK CheckDir: LBE.Rcheck Warnings: 0