Package: LBE Version: 1.74.0 Command: /Library/Frameworks/R.framework/Resources/bin/R CMD INSTALL LBE StartedAt: 2025-01-30 15:05:11 -0500 (Thu, 30 Jan 2025) EndedAt: 2025-01-30 15:05:16 -0500 (Thu, 30 Jan 2025) EllapsedTime: 4.5 seconds RetCode: 0 Status: OK