Package: LBE Version: 1.74.0 Command: /Library/Frameworks/R.framework/Resources/bin/R CMD INSTALL LBE StartedAt: 2025-01-30 15:06:58 -0500 (Thu, 30 Jan 2025) EndedAt: 2025-01-30 15:07:09 -0500 (Thu, 30 Jan 2025) EllapsedTime: 10.8 seconds RetCode: 0 Status: OK