Package: LBE Version: 1.74.0 Command: /home/biocbuild/bbs-3.20-bioc/R/bin/R CMD check --install=check:LBE.install-out.txt --library=/home/biocbuild/bbs-3.20-bioc/R/site-library --timings LBE_1.74.0.tar.gz StartedAt: 2025-01-30 23:26:55 -0500 (Thu, 30 Jan 2025) EndedAt: 2025-01-30 23:27:15 -0500 (Thu, 30 Jan 2025) EllapsedTime: 20.0 seconds RetCode: 0 Status: OK CheckDir: LBE.Rcheck Warnings: 0