Package: LBE Version: 1.74.0 Command: /home/biocbuild/R/R/bin/R CMD build --keep-empty-dirs --no-resave-data LBE StartedAt: 2025-02-04 00:32:55 -0000 (Tue, 04 Feb 2025) EndedAt: 2025-02-04 00:33:01 -0000 (Tue, 04 Feb 2025) EllapsedTime: 6.0 seconds RetCode: 0 Status: OK PackageFile: LBE_1.74.0.tar.gz PackageFileSize: 776.5 KiB