Package: LBE Version: 1.74.0 Command: /home/biocbuild/R/R/bin/R CMD INSTALL LBE StartedAt: 2025-01-30 20:06:16 -0000 (Thu, 30 Jan 2025) EndedAt: 2025-01-30 20:06:33 -0000 (Thu, 30 Jan 2025) EllapsedTime: 17.9 seconds RetCode: 0 Status: OK