Package: LPE Version: 1.80.0 Command: /Library/Frameworks/R.framework/Resources/bin/R CMD INSTALL LPE StartedAt: 2025-01-30 15:07:34 -0500 (Thu, 30 Jan 2025) EndedAt: 2025-01-30 15:07:54 -0500 (Thu, 30 Jan 2025) EllapsedTime: 20.5 seconds RetCode: 0 Status: OK