Package: LRcell Version: 1.14.0 Command: rm -rf LRcell.buildbin-libdir && mkdir LRcell.buildbin-libdir && /Users/biocbuild/BBS/utils/build-universal.sh LRcell_1.14.0.tar.gz /Library/Frameworks/R.framework/Resources/bin/R LRcell.buildbin-libdir StartedAt: 2025-02-01 15:31:08 -0500 (Sat, 01 Feb 2025) EndedAt: 2025-02-01 15:31:29 -0500 (Sat, 01 Feb 2025) EllapsedTime: 20.5 seconds RetCode: 0 Status: OK PackageFile: LRcell_1.14.0.tgz PackageFileSize: 1.073 MiB