Package: LRcell Version: 1.14.0 Command: /Library/Frameworks/R.framework/Resources/bin/R CMD build --keep-empty-dirs --no-resave-data LRcell StartedAt: 2025-01-31 02:19:32 -0500 (Fri, 31 Jan 2025) EndedAt: 2025-01-31 02:20:47 -0500 (Fri, 31 Jan 2025) EllapsedTime: 74.6 seconds RetCode: 0 Status: OK PackageFile: LRcell_1.14.0.tar.gz PackageFileSize: 1.037 MiB