Package: LRcell Version: 1.14.0 Command: /Library/Frameworks/R.framework/Resources/bin/R CMD check --install=check:LRcell.install-out.txt --library=/Library/Frameworks/R.framework/Resources/library --no-vignettes --timings LRcell_1.14.0.tar.gz StartedAt: 2025-01-31 23:36:40 -0500 (Fri, 31 Jan 2025) EndedAt: 2025-01-31 23:39:34 -0500 (Fri, 31 Jan 2025) EllapsedTime: 174.4 seconds RetCode: 0 Status: OK CheckDir: LRcell.Rcheck Warnings: 0