Package: LRcell Version: 1.14.0 Command: rm -rf LRcell.buildbin-libdir && mkdir LRcell.buildbin-libdir && F:\biocbuild\bbs-3.20-bioc\R\bin\R.exe CMD INSTALL --build --library=LRcell.buildbin-libdir LRcell_1.14.0.tar.gz StartedAt: 2025-01-31 08:57:18 -0500 (Fri, 31 Jan 2025) EndedAt: 2025-01-31 08:57:46 -0500 (Fri, 31 Jan 2025) EllapsedTime: 28.5 seconds RetCode: 0 Status: OK PackageFile: LRcell_1.14.0.zip PackageFileSize: 726.3 KiB