Package: LRcell Version: 1.14.0 Command: /home/biocbuild/R/R/bin/R CMD build --keep-empty-dirs --no-resave-data LRcell StartedAt: 2025-01-31 00:35:20 -0000 (Fri, 31 Jan 2025) EndedAt: 2025-01-31 00:36:45 -0000 (Fri, 31 Jan 2025) EllapsedTime: 85.0 seconds RetCode: 0 Status: OK PackageFile: LRcell_1.14.0.tar.gz PackageFileSize: 726 KiB