Package: LRcell Version: 1.14.0 Command: /home/biocbuild/R/R/bin/R CMD INSTALL LRcell StartedAt: 2025-01-30 20:23:33 -0000 (Thu, 30 Jan 2025) EndedAt: 2025-01-30 20:23:53 -0000 (Thu, 30 Jan 2025) EllapsedTime: 19.8 seconds RetCode: 0 Status: OK