Package: LinTInd Version: 1.10.0 Command: rm -rf LinTInd.buildbin-libdir && mkdir LinTInd.buildbin-libdir && /Users/biocbuild/BBS/utils/build-universal.sh LinTInd_1.10.0.tar.gz /Library/Frameworks/R.framework/Resources/bin/R LinTInd.buildbin-libdir StartedAt: 2025-02-12 15:39:50 -0500 (Wed, 12 Feb 2025) EndedAt: 2025-02-12 15:40:13 -0500 (Wed, 12 Feb 2025) EllapsedTime: 22.7 seconds RetCode: 0 Status: OK PackageFile: LinTInd_1.10.0.tgz PackageFileSize: 704.3 KiB