Package: LinTInd Version: 1.10.0 Command: /Library/Frameworks/R.framework/Resources/bin/R CMD build --keep-empty-dirs --no-resave-data LinTInd StartedAt: 2025-02-04 02:18:36 -0500 (Tue, 04 Feb 2025) EndedAt: 2025-02-04 02:19:31 -0500 (Tue, 04 Feb 2025) EllapsedTime: 55.5 seconds RetCode: 0 Status: OK PackageFile: LinTInd_1.10.0.tar.gz PackageFileSize: 1.573 MiB