Package: LinTInd Version: 1.10.0 Command: /Library/Frameworks/R.framework/Resources/bin/R CMD check --install=check:LinTInd.install-out.txt --library=/Library/Frameworks/R.framework/Resources/library --no-vignettes --timings LinTInd_1.10.0.tar.gz StartedAt: 2025-02-04 23:56:42 -0500 (Tue, 04 Feb 2025) EndedAt: 2025-02-05 00:02:47 -0500 (Wed, 05 Feb 2025) EllapsedTime: 364.5 seconds RetCode: 0 Status: OK CheckDir: LinTInd.Rcheck Warnings: 0