Package: LinTInd Version: 1.10.0 Command: /Library/Frameworks/R.framework/Resources/bin/R CMD INSTALL LinTInd StartedAt: 2025-02-03 16:29:57 -0500 (Mon, 03 Feb 2025) EndedAt: 2025-02-03 16:30:17 -0500 (Mon, 03 Feb 2025) EllapsedTime: 20.0 seconds RetCode: 0 Status: OK