Package: LinTInd Version: 1.10.0 Command: /home/biocbuild/bbs-3.20-bioc/R/bin/R CMD check --install=check:LinTInd.install-out.txt --library=/home/biocbuild/bbs-3.20-bioc/R/site-library --timings LinTInd_1.10.0.tar.gz StartedAt: 2025-02-03 23:39:17 -0500 (Mon, 03 Feb 2025) EndedAt: 2025-02-03 23:41:44 -0500 (Mon, 03 Feb 2025) EllapsedTime: 147.2 seconds RetCode: 0 Status: OK CheckDir: LinTInd.Rcheck Warnings: 0