Package: LinTInd Version: 1.10.0 Command: /home/biocbuild/bbs-3.20-bioc/R/bin/R CMD INSTALL LinTInd StartedAt: 2025-02-10 15:37:10 -0500 (Mon, 10 Feb 2025) EndedAt: 2025-02-10 15:37:26 -0500 (Mon, 10 Feb 2025) EllapsedTime: 16.0 seconds RetCode: 0 Status: OK