Package: LinTInd Version: 1.10.0 Command: rm -rf LinTInd.buildbin-libdir && mkdir LinTInd.buildbin-libdir && F:\biocbuild\bbs-3.20-bioc\R\bin\R.exe CMD INSTALL --build --library=LinTInd.buildbin-libdir LinTInd_1.10.0.tar.gz StartedAt: 2025-01-31 08:56:25 -0500 (Fri, 31 Jan 2025) EndedAt: 2025-01-31 08:57:08 -0500 (Fri, 31 Jan 2025) EllapsedTime: 43.4 seconds RetCode: 0 Status: OK PackageFile: LinTInd_1.10.0.zip PackageFileSize: 577 KiB