Package: LinTInd Version: 1.10.0 Command: /home/biocbuild/R/R/bin/R CMD build --keep-empty-dirs --no-resave-data LinTInd StartedAt: 2025-02-04 00:34:40 -0000 (Tue, 04 Feb 2025) EndedAt: 2025-02-04 00:35:37 -0000 (Tue, 04 Feb 2025) EllapsedTime: 57.0 seconds RetCode: 0 Status: OK PackageFile: LinTInd_1.10.0.tar.gz PackageFileSize: 1.492 MiB