Package: LinTInd Version: 1.10.0 Command: /home/biocbuild/R/R/bin/R CMD INSTALL LinTInd StartedAt: 2025-02-03 20:52:53 -0000 (Mon, 03 Feb 2025) EndedAt: 2025-02-03 20:53:14 -0000 (Mon, 03 Feb 2025) EllapsedTime: 20.9 seconds RetCode: 0 Status: OK