Package: Linnorm Version: 2.30.0 Command: /home/biocbuild/R/R/bin/R CMD build --keep-empty-dirs --no-resave-data Linnorm StartedAt: 2025-02-11 00:24:19 -0000 (Tue, 11 Feb 2025) EndedAt: 2025-02-11 00:29:45 -0000 (Tue, 11 Feb 2025) EllapsedTime: 326.1 seconds RetCode: 0 Status: OK PackageFile: Linnorm_2.30.0.tar.gz PackageFileSize: 4.096 MiB